BEGIN:VCALENDAR
VERSION:2.0
PRODID:-//NVTA//Event Calendar//EN
METHOD:PUBLISH
CALSCALE:GREGORIAN
BEGIN:VEVENT
UID:event-1148-1776689388@www.thenovaauthority.org
DTSTART:20260108T223000Z
DTEND:20260108T231500Z
DTSTAMP:20260420T124948Z
CREATED:20260420T124948Z
SUMMARY:Finance Committee Meeting
LOCATION:2600 Park Tower Dr\, Suite 601\n\nWindow Conference Room\n\nVienna\, VA 22180\n
STATUS:CONFIRMED
TRANSP:OPAQUE
SEQUENCE:0
END:VEVENT
END:VCALENDAR
