BEGIN:VCALENDAR
VERSION:2.0
PRODID:-//NVTA//Event Calendar//EN
METHOD:PUBLISH
CALSCALE:GREGORIAN
BEGIN:VEVENT
UID:event-1073-1776689386@www.thenovaauthority.org
DTSTART:20260611T221500Z
DTEND:20260611T230000Z
DTSTAMP:20260420T124946Z
CREATED:20260420T124946Z
SUMMARY:Governance and Personnel Committee Meeting
STATUS:CONFIRMED
TRANSP:OPAQUE
SEQUENCE:0
END:VEVENT
END:VCALENDAR
