BEGIN:VCALENDAR
VERSION:2.0
PRODID:-//NVTA//Event Calendar//EN
METHOD:PUBLISH
CALSCALE:GREGORIAN
BEGIN:VEVENT
UID:event-1079-1776689375@www.thenovaauthority.org
DTSTART:20260212T231500Z
DTEND:20260213T000000Z
DTSTAMP:20260420T124935Z
CREATED:20260420T124935Z
SUMMARY:Governance and Personnel Committee Meeting
STATUS:CONFIRMED
TRANSP:OPAQUE
SEQUENCE:0
END:VEVENT
END:VCALENDAR
