BEGIN:VCALENDAR
VERSION:2.0
PRODID:-//NVTA//Event Calendar//EN
METHOD:PUBLISH
CALSCALE:GREGORIAN
BEGIN:VEVENT
UID:event-1410-1776694153@www.thenovaauthority.org
DTSTART:20260618T220000Z
DTEND:20260618T230000Z
DTSTAMP:20260420T140913Z
CREATED:20260420T140913Z
SUMMARY:Planning and Programming Committee Meeting
LOCATION:2600 Park Tower Drive\, Suite 601\n\nVienna\, VA 22180\n
STATUS:CONFIRMED
TRANSP:OPAQUE
SEQUENCE:0
END:VEVENT
END:VCALENDAR
