BEGIN:VCALENDAR
VERSION:2.0
PRODID:-//NVTA//Event Calendar//EN
METHOD:PUBLISH
CALSCALE:GREGORIAN
BEGIN:VEVENT
UID:event-1406-1776694397@www.thenovaauthority.org
DTSTART:20260728T130000Z
DTEND:20260728T143000Z
DTSTAMP:20260420T141317Z
CREATED:20260420T141317Z
SUMMARY:Transportation Technology Committee Meeting
LOCATION:2600 Park Tower Drive\n\nSuite 601\n\nVienna\, VA 22180\n
STATUS:CONFIRMED
TRANSP:OPAQUE
SEQUENCE:0
END:VEVENT
END:VCALENDAR
